BEGIN:VCALENDAR
VERSION:2.0
PRODID:-// - ECPv6.15.20//NONSGML v1.0//EN
CALSCALE:GREGORIAN
METHOD:PUBLISH
X-ORIGINAL-URL:https://timiskamingyouth.ca
X-WR-CALDESC:Events for 
REFRESH-INTERVAL;VALUE=DURATION:PT1H
X-Robots-Tag:noindex
X-PUBLISHED-TTL:PT1H
BEGIN:VTIMEZONE
TZID:America/Toronto
BEGIN:DAYLIGHT
TZOFFSETFROM:-0500
TZOFFSETTO:-0400
TZNAME:EDT
DTSTART:20240310T070000
END:DAYLIGHT
BEGIN:STANDARD
TZOFFSETFROM:-0400
TZOFFSETTO:-0500
TZNAME:EST
DTSTART:20241103T060000
END:STANDARD
BEGIN:DAYLIGHT
TZOFFSETFROM:-0500
TZOFFSETTO:-0400
TZNAME:EDT
DTSTART:20250309T070000
END:DAYLIGHT
BEGIN:STANDARD
TZOFFSETFROM:-0400
TZOFFSETTO:-0500
TZNAME:EST
DTSTART:20251102T060000
END:STANDARD
BEGIN:DAYLIGHT
TZOFFSETFROM:-0500
TZOFFSETTO:-0400
TZNAME:EDT
DTSTART:20260308T070000
END:DAYLIGHT
BEGIN:STANDARD
TZOFFSETFROM:-0400
TZOFFSETTO:-0500
TZNAME:EST
DTSTART:20261101T060000
END:STANDARD
END:VTIMEZONE
BEGIN:VEVENT
DTSTART;TZID=America/Toronto:20250710T180000
DTEND;TZID=America/Toronto:20250710T200000
DTSTAMP:20260425T073600
CREATED:20250618T143316Z
LAST-MODIFIED:20250618T143503Z
UID:1191-1752170400-1752177600@timiskamingyouth.ca
SUMMARY:Parent Café - Oh the Places You Can Go! (Kirkland Lake)
DESCRIPTION:Are you a parent/caregiver/ caring adult? \nCome be part of the parent café experience! Snacks provided!   \n  \nÊtes-vous un parent/aidant/adulte attentionné ? \nVenez vivre l’expérience du café des parents ! Collations offertes ! 
URL:https://timiskamingyouth.ca/event/parent-cafe-kirkland-lake-july-10/
LOCATION:The Stope\, 17 Government Road West\, Kirkland Lake\, Ontario\, Canada
CATEGORIES:Kirkland Lake,Parent Café | Café des parents
END:VEVENT
END:VCALENDAR