BEGIN:VCALENDAR
VERSION:2.0
PRODID:-// - ECPv6.15.20//NONSGML v1.0//EN
CALSCALE:GREGORIAN
METHOD:PUBLISH
X-ORIGINAL-URL:https://timiskamingyouth.ca
X-WR-CALDESC:Events for 
REFRESH-INTERVAL;VALUE=DURATION:PT1H
X-Robots-Tag:noindex
X-PUBLISHED-TTL:PT1H
BEGIN:VTIMEZONE
TZID:America/Toronto
BEGIN:DAYLIGHT
TZOFFSETFROM:-0500
TZOFFSETTO:-0400
TZNAME:EDT
DTSTART:20240310T070000
END:DAYLIGHT
BEGIN:STANDARD
TZOFFSETFROM:-0400
TZOFFSETTO:-0500
TZNAME:EST
DTSTART:20241103T060000
END:STANDARD
BEGIN:DAYLIGHT
TZOFFSETFROM:-0500
TZOFFSETTO:-0400
TZNAME:EDT
DTSTART:20250309T070000
END:DAYLIGHT
BEGIN:STANDARD
TZOFFSETFROM:-0400
TZOFFSETTO:-0500
TZNAME:EST
DTSTART:20251102T060000
END:STANDARD
BEGIN:DAYLIGHT
TZOFFSETFROM:-0500
TZOFFSETTO:-0400
TZNAME:EDT
DTSTART:20260308T070000
END:DAYLIGHT
BEGIN:STANDARD
TZOFFSETFROM:-0400
TZOFFSETTO:-0500
TZNAME:EST
DTSTART:20261101T060000
END:STANDARD
BEGIN:DAYLIGHT
TZOFFSETFROM:-0500
TZOFFSETTO:-0400
TZNAME:EDT
DTSTART:20270314T070000
END:DAYLIGHT
BEGIN:STANDARD
TZOFFSETFROM:-0400
TZOFFSETTO:-0500
TZNAME:EST
DTSTART:20271107T060000
END:STANDARD
END:VTIMEZONE
BEGIN:VEVENT
DTSTART;TZID=America/Toronto:20251111T151500
DTEND;TZID=America/Toronto:20251111T164500
DTSTAMP:20260425T095441
CREATED:20251105T145202Z
LAST-MODIFIED:20251105T145202Z
UID:1647-1762874100-1762879500@timiskamingyouth.ca
SUMMARY:Central Action Team Meeting
DESCRIPTION:Location: Join in person at EHS\, Cafetorium from 3:15- 4:45 PM. \nContact Erika.Aelterman@NEPH.ca for the agenda.
URL:https://timiskamingyouth.ca/event/central-action-team-meeting-7/
LOCATION:Englehart High School\, 61 4th Street\, Englehart\, Ontario\, P0J1H0\, Canada
CATEGORIES:Englehart
END:VEVENT
BEGIN:VEVENT
DTSTART;TZID=America/Toronto:20251205T160000
DTEND;TZID=America/Toronto:20251205T183000
DTSTAMP:20260425T095441
CREATED:20250925T164756Z
LAST-MODIFIED:20250925T164756Z
UID:1558-1764950400-1764959400@timiskamingyouth.ca
SUMMARY:Youth Hub@ EHS
DESCRIPTION:𝐘𝐨𝐮𝐭𝐡 𝐇𝐮𝐛 is happening today at Englehart High School—and you’re invited! \n𝐖𝐡𝐨: Anyone aged 𝟏𝟐-𝟏𝟕 (yes\, that means YOU!). \n𝐖𝐡𝐚𝐭: A FREE drop-in open gym event packed with fun\, friends\, food\, and good vibes. \n𝐖𝐡𝐲: Bring a friend or come solo and make some awesome new connections! \nWhat every youth hub offers\, for free: \n* Free Food \n* Chill Space \n* Fun Activities \n* Temiskaming Transit tickets \n* Counsellor support \n// \nCarrefour Jeunesse se passe aujourd’hui à l’école secondaire d’Englehart — et vous êtes invités ! \nQui : Toute personne âgée de 𝟏𝟐 à 𝟏𝟕 (oui\, cela veut dire VOUS !). \nQuoi : Un événement de gym ouvert et gratuit\, rempli de plaisir\, d’amis\, de nourriture et de bonnes vibrations. \nPourquoi : Amenez un ami ou venez en solo et établissez de nouvelles connexions géniales ! \nCes éléments sont toujours disponibles et gratuits au hub : \n\nBouffe gratuite\nZone de détente\nDivertissements\nBillets d’autobus\nServices de counseling
URL:https://timiskamingyouth.ca/event/youth-hub-ehs-3/
LOCATION:Englehart High School\, 61 4th Street\, Englehart\, Ontario\, P0J1H0\, Canada
CATEGORIES:Englehart
END:VEVENT
BEGIN:VEVENT
DTSTART;TZID=America/Toronto:20260109T160000
DTEND;TZID=America/Toronto:20260109T183000
DTSTAMP:20260425T095441
CREATED:20250925T164925Z
LAST-MODIFIED:20260105T184956Z
UID:1560-1767974400-1767983400@timiskamingyouth.ca
SUMMARY:CANCELLED - Youth Hub@ EHS
DESCRIPTION:This Youth Hub has been cancelled due to illness.  \n𝐘𝐨𝐮𝐭𝐡 𝐇𝐮𝐛 is happening today at Englehart High School—and you’re invited! \n𝐖𝐡𝐨: Anyone aged 𝟏𝟐-𝟏𝟕 (yes\, that means YOU!). \n𝐖𝐡𝐚𝐭: A FREE drop-in open gym event packed with fun\, friends\, food\, and good vibes. \n𝐖𝐡𝐲: Bring a friend or come solo and make some awesome new connections! \nWhat every youth hub offers\, for free: \n* Free Food \n* Chill Space \n* Fun Activities \n* Temiskaming Transit tickets \n* Counsellor support \n// \nCarrefour Jeunesse se passe aujourd’hui à l’école secondaire d’Englehart — et vous êtes invités ! \nQui : Toute personne âgée de 𝟏𝟐 à 𝟏𝟕 (oui\, cela veut dire VOUS !). \nQuoi : Un événement de gym ouvert et gratuit\, rempli de plaisir\, d’amis\, de nourriture et de bonnes vibrations. \nPourquoi : Amenez un ami ou venez en solo et établissez de nouvelles connexions géniales ! \nCes éléments sont toujours disponibles et gratuits au hub : \n\nBouffe gratuite\nZone de détente\nDivertissements\nBillets d’autobus\nServices de counseling
URL:https://timiskamingyouth.ca/event/youth-hub-ehs-4/
LOCATION:Englehart High School\, 61 4th Street\, Englehart\, Ontario\, P0J1H0\, Canada
CATEGORIES:Englehart
END:VEVENT
BEGIN:VEVENT
DTSTART;TZID=America/Toronto:20260417T163000
DTEND;TZID=America/Toronto:20260417T190000
DTSTAMP:20260425T095441
CREATED:20260401T210617Z
LAST-MODIFIED:20260407T200138Z
UID:1830-1776443400-1776452400@timiskamingyouth.ca
SUMMARY:Englehart Youth Drop-In
DESCRIPTION:Englehart High School’s Student Council first Youth Drop-In event is set for  Friday\, April 17th – a ‘Sing & Create’ Pizza night (Karaoke and lots of ‘do-it-yourself’ activities such as diamond art\, colouring\, paint by number\, survival bracelet making\, key chains\, etc.) \n  \nSee you there!
URL:https://timiskamingyouth.ca/event/englehart-youth-drop-in/
LOCATION:Ontario
CATEGORIES:Englehart
END:VEVENT
END:VCALENDAR