BEGIN:VCALENDAR
VERSION:2.0
PRODID:-// - ECPv6.15.20//NONSGML v1.0//EN
CALSCALE:GREGORIAN
METHOD:PUBLISH
X-ORIGINAL-URL:https://timiskamingyouth.ca
X-WR-CALDESC:Events for 
REFRESH-INTERVAL;VALUE=DURATION:PT1H
X-Robots-Tag:noindex
X-PUBLISHED-TTL:PT1H
BEGIN:VTIMEZONE
TZID:America/Toronto
BEGIN:DAYLIGHT
TZOFFSETFROM:-0500
TZOFFSETTO:-0400
TZNAME:EDT
DTSTART:20240310T070000
END:DAYLIGHT
BEGIN:STANDARD
TZOFFSETFROM:-0400
TZOFFSETTO:-0500
TZNAME:EST
DTSTART:20241103T060000
END:STANDARD
BEGIN:DAYLIGHT
TZOFFSETFROM:-0500
TZOFFSETTO:-0400
TZNAME:EDT
DTSTART:20250309T070000
END:DAYLIGHT
BEGIN:STANDARD
TZOFFSETFROM:-0400
TZOFFSETTO:-0500
TZNAME:EST
DTSTART:20251102T060000
END:STANDARD
BEGIN:DAYLIGHT
TZOFFSETFROM:-0500
TZOFFSETTO:-0400
TZNAME:EDT
DTSTART:20260308T070000
END:DAYLIGHT
BEGIN:STANDARD
TZOFFSETFROM:-0400
TZOFFSETTO:-0500
TZNAME:EST
DTSTART:20261101T060000
END:STANDARD
END:VTIMEZONE
BEGIN:VEVENT
DTSTART;TZID=America/Toronto:20250528T173000
DTEND;TZID=America/Toronto:20250528T200000
DTSTAMP:20260425T070224
CREATED:20250509T185833Z
LAST-MODIFIED:20250509T190357Z
UID:1152-1748453400-1748462400@timiskamingyouth.ca
SUMMARY:Drug Free Kids Canada Presentation- A Strong Start  |  Partir du bon pied (EHS - Englehart)
DESCRIPTION:Drug Free Kids Canada Presentation- A Strong Start   \nRegister for a presentation from Drug Free Kids Canada in your local community. Events are taking place in Kirkland Lake\, Englehart and New Liskeard. French and English options available. For more information\, email Erika.Aelterman@NEPH.ca  \n \nPrésentation de DFKC pour parents- Partir du bon pied 
URL:https://timiskamingyouth.ca/event/drug-free-kids-canada-presentation-ehs-may28/
LOCATION:Englehart High School\, 61 4th Street\, Englehart\, Ontario\, P0J1H0\, Canada
CATEGORIES:Englehart
END:VEVENT
END:VCALENDAR