BEGIN:VCALENDAR
VERSION:2.0
PRODID:-// - ECPv6.15.20//NONSGML v1.0//EN
CALSCALE:GREGORIAN
METHOD:PUBLISH
X-ORIGINAL-URL:https://timiskamingyouth.ca
X-WR-CALDESC:Events for 
REFRESH-INTERVAL;VALUE=DURATION:PT1H
X-Robots-Tag:noindex
X-PUBLISHED-TTL:PT1H
BEGIN:VTIMEZONE
TZID:America/Toronto
BEGIN:DAYLIGHT
TZOFFSETFROM:-0500
TZOFFSETTO:-0400
TZNAME:EDT
DTSTART:20240310T070000
END:DAYLIGHT
BEGIN:STANDARD
TZOFFSETFROM:-0400
TZOFFSETTO:-0500
TZNAME:EST
DTSTART:20241103T060000
END:STANDARD
BEGIN:DAYLIGHT
TZOFFSETFROM:-0500
TZOFFSETTO:-0400
TZNAME:EDT
DTSTART:20250309T070000
END:DAYLIGHT
BEGIN:STANDARD
TZOFFSETFROM:-0400
TZOFFSETTO:-0500
TZNAME:EST
DTSTART:20251102T060000
END:STANDARD
BEGIN:DAYLIGHT
TZOFFSETFROM:-0500
TZOFFSETTO:-0400
TZNAME:EDT
DTSTART:20260308T070000
END:DAYLIGHT
BEGIN:STANDARD
TZOFFSETFROM:-0400
TZOFFSETTO:-0500
TZNAME:EST
DTSTART:20261101T060000
END:STANDARD
END:VTIMEZONE
BEGIN:VEVENT
DTSTART;TZID=America/Toronto:20250408T153000
DTEND;TZID=America/Toronto:20250408T170000
DTSTAMP:20260425T082227
CREATED:20250204T204648Z
LAST-MODIFIED:20250204T204648Z
UID:932-1744126200-1744131600@timiskamingyouth.ca
SUMMARY:Central Action Team Meeting
DESCRIPTION:Location: Join in person at the Englehart Arena Boardroom (upstairs) or virtually via Microsoft Teams. Click here to join. \nContact Erika.Aelterman@NEPH.ca for the agenda.
URL:https://timiskamingyouth.ca/event/central-action-team-meeting-4/
LOCATION:Englehart Arena\, 80 7th Avenue\, Englehart\, Ontario\, P0J 1P0\, Canada
CATEGORIES:Englehart
END:VEVENT
BEGIN:VEVENT
DTSTART;TZID=America/Toronto:20250428T160000
DTEND;TZID=America/Toronto:20250428T183000
DTSTAMP:20260425T082227
CREATED:20250410T190305Z
LAST-MODIFIED:20250410T190528Z
UID:1096-1745856000-1745865000@timiskamingyouth.ca
SUMMARY:Youth Hub - Englehart - Carrefour Jeunesse
DESCRIPTION:𝐘𝐨𝐮𝐭𝐡 𝐇𝐮𝐛 is happening today at Englehart Public School in Englehart—and you’re invited! \n𝐖𝐡𝐨: Anyone aged 𝟏𝟐-𝟏𝟕 (yes\, that means YOU!). \n𝐖𝐡𝐚𝐭: A FREE drop-in open gym event packed with fun\, friends\, food\, and good vibes. \n𝐖𝐡𝐲: Bring a friend or come solo and make some awesome new connections! \n  \nWhat every youth hub offers\, for free: \n* Free Food \n* Chill Space \n* Fun Activities \n* Homework help \n* Temiskaming Transit tickets \n* Counsellor support \nSpecial Activity: Spring Palette Knife painting with Chelsea Smith! \n \n// \nCarrefour Jeunesse se passe aujourd’hui à l’École publique d’Englehart — et vous êtes invités ! \nQui : Toute personne âgée de 𝟏𝟐 à 𝟏𝟕 (oui\, cela veut dire VOUS !). \nQuoi : Un événement de gym ouvert et gratuit\, rempli de plaisir\, d’amis\, de nourriture et de bonnes vibrations. \nPourquoi : Amenez un ami ou venez en solo et établissez de nouvelles connexions géniales ! \nCes éléments sont toujours disponibles et gratuits au hub :\n·       Bouffe gratuite \n·       Zone de détente \n·       Divertissements \n·       Appui avec les devoirs \n·       Billets d’autobus \n·       Services de counseling \nActivité spéciale: Peinture au couteau de printemps avec Chelsea Smith!
URL:https://timiskamingyouth.ca/event/youth-hub-englehart-april-28/
LOCATION:Englehart Public School\, 70 8th Ave\, Englehart\, Ontario\, P0J1H0\, Canada
CATEGORIES:Englehart
END:VEVENT
END:VCALENDAR