BEGIN:VCALENDAR
VERSION:2.0
PRODID:-// - ECPv6.15.20//NONSGML v1.0//EN
CALSCALE:GREGORIAN
METHOD:PUBLISH
X-ORIGINAL-URL:https://timiskamingyouth.ca
X-WR-CALDESC:Events for 
REFRESH-INTERVAL;VALUE=DURATION:PT1H
X-Robots-Tag:noindex
X-PUBLISHED-TTL:PT1H
BEGIN:VTIMEZONE
TZID:America/Toronto
BEGIN:DAYLIGHT
TZOFFSETFROM:-0500
TZOFFSETTO:-0400
TZNAME:EDT
DTSTART:20240310T070000
END:DAYLIGHT
BEGIN:STANDARD
TZOFFSETFROM:-0400
TZOFFSETTO:-0500
TZNAME:EST
DTSTART:20241103T060000
END:STANDARD
BEGIN:DAYLIGHT
TZOFFSETFROM:-0500
TZOFFSETTO:-0400
TZNAME:EDT
DTSTART:20250309T070000
END:DAYLIGHT
BEGIN:STANDARD
TZOFFSETFROM:-0400
TZOFFSETTO:-0500
TZNAME:EST
DTSTART:20251102T060000
END:STANDARD
BEGIN:DAYLIGHT
TZOFFSETFROM:-0500
TZOFFSETTO:-0400
TZNAME:EDT
DTSTART:20260308T070000
END:DAYLIGHT
BEGIN:STANDARD
TZOFFSETFROM:-0400
TZOFFSETTO:-0500
TZNAME:EST
DTSTART:20261101T060000
END:STANDARD
END:VTIMEZONE
BEGIN:VEVENT
DTSTART;TZID=America/Toronto:20250506T160000
DTEND;TZID=America/Toronto:20250506T183000
DTSTAMP:20260421T074125
CREATED:20250509T182144Z
LAST-MODIFIED:20250509T182144Z
UID:1125-1746547200-1746556200@timiskamingyouth.ca
SUMMARY:Cobalt Youth Hub @ St. Patrick School • Cobalt • Carrefour Jeunesse @ École St. Patrick
DESCRIPTION:𝐘𝐨𝐮𝐭𝐡 𝐇𝐮𝐛 is happening today at St. Patrick School Cobalt —and you’re invited!   \n𝐖𝐡𝐨: Anyone aged 𝟏𝟐–𝟏𝟕 (yes\, that means YOU!).   \n𝐖𝐡𝐚𝐭: A FREE drop-in open gym event packed with fun\, friends\, food\, and good vibes.   \n𝐖𝐡𝐲: Bring a friend or come solo and make some awesome new connections!  \nWhat every youth hub offers\, for free:  \n* Free Food  \n* Chill Space  \n* Fun Activities  \n* Homework help  \n* Temiskaming Transit tickets  \n* Counsellor support   \n \n//  \nCarrefour Jeunesse se passe aujourd’hui à l’École St. Patrick — et vous êtes invités !  \nQui : Toute personne âgée de 𝟏𝟐 à 𝟏𝟕 (oui\, cela veut dire VOUS !).   \nQuoi : Un événement de gym ouvert et gratuit\, rempli de plaisir\, d’amis\, de nourriture et de bonnes vibrations.  \nPourquoi : Amenez un ami ou venez en solo et établissez de nouvelles connexions géniales !  \nCes éléments sont toujours disponibles et gratuits au hub :   \n\nBouffe gratuite  \n\n\nZone de détente  \n\n\nDivertissements \n\n\nAppui avec les devoirs \n\n\nBillets d’autobus \n\n   • Services de counseling 
URL:https://timiskamingyouth.ca/event/youthhub_may6/
LOCATION:St. Patrick School\, 119 Lang St.\, Cobalt\, Ontario\, P0J 1C0\, Canada
CATEGORIES:Cobalt
END:VEVENT
END:VCALENDAR